Workbook

Sheet Standings
B2: B (7) | C2: w | D2: l | F2: C Gold (5) | G2: w | H2: l | J2: C Silver (5) | K2: w | L2: l | N2: D Gold (4) | O2: w | P2: l | R2: D Silver (5) | S2: w | T2: l
B3: Diablo B 1 (Tong) | C3: =COUNTIFS('Schedule Full'!J:J, Standings!$C$2,'Schedule Full'!F:F,Standings!B3)+COUNTIFS('Schedule Full'!K:K, Standings!$C$2,'Schedule Full'!G:G,Standings!B3) -> 7 | D3: =COUNTIFS('Schedule Full'!J:J, Standings!$D$2,'Schedule Full'!F:F,Standings!B3)+COUNTIFS('Schedule Full'!K:K, Standings!$D$2,'Schedule Full'!G:G,Standings!B3) -> 2 | F3: BMU C Gold1 (Nakahara) | G3: =COUNTIFS('Schedule Full'!J:J, Standings!$G$2,'Schedule Full'!F:F,Standings!F3)+COUNTIFS('Schedule Full'!K:K, Standings!$G$2,'Schedule Full'!G:G,Standings!F3) -> 8 | H3: =COUNTIFS('Schedule Full'!J:J, Standings!$H$2,'Schedule Full'!F:F,Standings!F3)+COUNTIFS('Schedule Full'!K:K, Standings!$H$2,'Schedule Full'!G:G,Standings!F3) -> 1 | J3: SACBC C Silver2 (Yamaguchi) | K3: =COUNTIFS('Schedule Full'!J:J, Standings!$K$2,'Schedule Full'!F:F,Standings!J3)+COUNTIFS('Schedule Full'!K:K, Standings!$K$2,'Schedule Full'!G:G,Standings!J3) -> 9 | L3: =COUNTIFS('Schedule Full'!J:J, Standings!$L$2,'Schedule Full'!F:F,Standings!J3)+COUNTIFS('Schedule Full'!K:K, Standings!$L$2,'Schedule Full'!G:G,Standings!J3) -> 0 | N3: Ohtani D Gold1 (Shiota) | O3: =COUNTIFS('Schedule Full'!J:J, Standings!$O$2,'Schedule Full'!F:F,Standings!N3)+COUNTIFS('Schedule Full'!K:K, Standings!$O$2,'Schedule Full'!G:G,Standings!N3)+0.5 -> 7.5 | P3: =COUNTIFS('Schedule Full'!J:J, Standings!$P$2,'Schedule Full'!F:F,Standings!N3)+COUNTIFS('Schedule Full'!K:K, Standings!$P$2,'Schedule Full'!G:G,Standings!N3)+0.5 -> 1.5 | R3: BMU D Silver1 (Yamashiro) | S3: =COUNTIFS('Schedule Full'!J:J, Standings!$S$2,'Schedule Full'!F:F,Standings!R3)+COUNTIFS('Schedule Full'!K:K, Standings!$S$2,'Schedule Full'!G:G,Standings!R3) -> 9 | T3: =COUNTIFS('Schedule Full'!J:J, Standings!$T$2,'Schedule Full'!F:F,Standings!R3)+COUNTIFS('Schedule Full'!K:K, Standings!$T$2,'Schedule Full'!G:G,Standings!R3) -> 1
B4: Ohtani B 1 (Fukumae) | C4: =COUNTIFS('Schedule Full'!J:J, Standings!$C$2,'Schedule Full'!F:F,Standings!B4)+COUNTIFS('Schedule Full'!K:K, Standings!$C$2,'Schedule Full'!G:G,Standings!B4) -> 7 | D4: =COUNTIFS('Schedule Full'!J:J, Standings!$D$2,'Schedule Full'!F:F,Standings!B4)+COUNTIFS('Schedule Full'!K:K, Standings!$D$2,'Schedule Full'!G:G,Standings!B4) -> 2 | F4: EBFM C Gold1 (Cauton) | G4: =COUNTIFS('Schedule Full'!J:J, Standings!$G$2,'Schedule Full'!F:F,Standings!F4)+COUNTIFS('Schedule Full'!K:K, Standings!$G$2,'Schedule Full'!G:G,Standings!F4) -> 8 | H4: =COUNTIFS('Schedule Full'!J:J, Standings!$H$2,'Schedule Full'!F:F,Standings!F4)+COUNTIFS('Schedule Full'!K:K, Standings!$H$2,'Schedule Full'!G:G,Standings!F4) -> 1 | J4: EBFM C Silver2 (Gong) | K4: =COUNTIFS('Schedule Full'!J:J, Standings!$K$2,'Schedule Full'!F:F,Standings!J4)+COUNTIFS('Schedule Full'!K:K, Standings!$K$2,'Schedule Full'!G:G,Standings!J4) -> 7 | L4: =COUNTIFS('Schedule Full'!J:J, Standings!$L$2,'Schedule Full'!F:F,Standings!J4)+COUNTIFS('Schedule Full'!K:K, Standings!$L$2,'Schedule Full'!G:G,Standings!J4) -> 2 | N4: Diablo D Gold1 (Okamura) | O4: =COUNTIFS('Schedule Full'!J:J, Standings!$O$2,'Schedule Full'!F:F,Standings!N4)+COUNTIFS('Schedule Full'!K:K, Standings!$O$2,'Schedule Full'!G:G,Standings!N4)+0.5 -> 7.5 | P4: =COUNTIFS('Schedule Full'!J:J, Standings!$P$2,'Schedule Full'!F:F,Standings!N4)+COUNTIFS('Schedule Full'!K:K, Standings!$P$2,'Schedule Full'!G:G,Standings!N4)+0.5 -> 1.5 | R4: Ohtani D Silver3 (Tsuji) | S4: =COUNTIFS('Schedule Full'!J:J, Standings!$S$2,'Schedule Full'!F:F,Standings!R4)+COUNTIFS('Schedule Full'!K:K, Standings!$S$2,'Schedule Full'!G:G,Standings!R4) -> 7 | T4: =COUNTIFS('Schedule Full'!J:J, Standings!$T$2,'Schedule Full'!F:F,Standings!R4)+COUNTIFS('Schedule Full'!K:K, Standings!$T$2,'Schedule Full'!G:G,Standings!R4) -> 2
B5: EBFM B 1 (Domingo) | C5: =COUNTIFS('Schedule Full'!J:J, Standings!$C$2,'Schedule Full'!F:F,Standings!B5)+COUNTIFS('Schedule Full'!K:K, Standings!$C$2,'Schedule Full'!G:G,Standings!B5) -> 5 | D5: =COUNTIFS('Schedule Full'!J:J, Standings!$D$2,'Schedule Full'!F:F,Standings!B5)+COUNTIFS('Schedule Full'!K:K, Standings!$D$2,'Schedule Full'!G:G,Standings!B5) -> 4 | F5: Eden C Gold1 (Nakamura) | G5: =COUNTIFS('Schedule Full'!J:J, Standings!$G$2,'Schedule Full'!F:F,Standings!F5)+COUNTIFS('Schedule Full'!K:K, Standings!$G$2,'Schedule Full'!G:G,Standings!F5) -> 7 | H5: =COUNTIFS('Schedule Full'!J:J, Standings!$H$2,'Schedule Full'!F:F,Standings!F5)+COUNTIFS('Schedule Full'!K:K, Standings!$H$2,'Schedule Full'!G:G,Standings!F5) -> 2 | J5: Diablo C Silver2 (Ito) | K5: =COUNTIFS('Schedule Full'!J:J, Standings!$K$2,'Schedule Full'!F:F,Standings!J5)+COUNTIFS('Schedule Full'!K:K, Standings!$K$2,'Schedule Full'!G:G,Standings!J5) -> 5 | L5: =COUNTIFS('Schedule Full'!J:J, Standings!$L$2,'Schedule Full'!F:F,Standings!J5)+COUNTIFS('Schedule Full'!K:K, Standings!$L$2,'Schedule Full'!G:G,Standings!J5) -> 4 | N5: BCO D Gold1 (Yamamoto) | O5: =COUNTIFS('Schedule Full'!J:J, Standings!$O$2,'Schedule Full'!F:F,Standings!N5)+COUNTIFS('Schedule Full'!K:K, Standings!$O$2,'Schedule Full'!G:G,Standings!N5) -> 4 | P5: =COUNTIFS('Schedule Full'!J:J, Standings!$P$2,'Schedule Full'!F:F,Standings!N5)+COUNTIFS('Schedule Full'!K:K, Standings!$P$2,'Schedule Full'!G:G,Standings!N5) -> 5 | R5: Ohtani D Silver2 (Markham) | S5: =COUNTIFS('Schedule Full'!J:J, Standings!$S$2,'Schedule Full'!F:F,Standings!R5)+COUNTIFS('Schedule Full'!K:K, Standings!$S$2,'Schedule Full'!G:G,Standings!R5) -> 5 | T5: =COUNTIFS('Schedule Full'!J:J, Standings!$T$2,'Schedule Full'!F:F,Standings!R5)+COUNTIFS('Schedule Full'!K:K, Standings!$T$2,'Schedule Full'!G:G,Standings!R5) -> 4
B6: Eden B 1 (Valerio) | C6: =COUNTIFS('Schedule Full'!J:J, Standings!$C$2,'Schedule Full'!F:F,Standings!B6)+COUNTIFS('Schedule Full'!K:K, Standings!$C$2,'Schedule Full'!G:G,Standings!B6) -> 4 | D6: =COUNTIFS('Schedule Full'!J:J, Standings!$D$2,'Schedule Full'!F:F,Standings!B6)+COUNTIFS('Schedule Full'!K:K, Standings!$D$2,'Schedule Full'!G:G,Standings!B6) -> 5 | F6: SACBC C Gold1 (Wong) | G6: =COUNTIFS('Schedule Full'!J:J, Standings!$G$2,'Schedule Full'!F:F,Standings!F6)+COUNTIFS('Schedule Full'!K:K, Standings!$G$2,'Schedule Full'!G:G,Standings!F6) -> 4 | H6: =COUNTIFS('Schedule Full'!J:J, Standings!$H$2,'Schedule Full'!F:F,Standings!F6)+COUNTIFS('Schedule Full'!K:K, Standings!$H$2,'Schedule Full'!G:G,Standings!F6) -> 5 | J6: Eden C Silver2 (Fruin) | K6: =COUNTIFS('Schedule Full'!J:J, Standings!$K$2,'Schedule Full'!F:F,Standings!J6)+COUNTIFS('Schedule Full'!K:K, Standings!$K$2,'Schedule Full'!G:G,Standings!J6) -> 2 | L6: =COUNTIFS('Schedule Full'!J:J, Standings!$L$2,'Schedule Full'!F:F,Standings!J6)+COUNTIFS('Schedule Full'!K:K, Standings!$L$2,'Schedule Full'!G:G,Standings!J6) -> 7 | N6: SACBC D Gold1 (Nomura) | O6: =COUNTIFS('Schedule Full'!J:J, Standings!$O$2,'Schedule Full'!F:F,Standings!N6)+COUNTIFS('Schedule Full'!K:K, Standings!$O$2,'Schedule Full'!G:G,Standings!N6) -> 4 | P6: =COUNTIFS('Schedule Full'!J:J, Standings!$P$2,'Schedule Full'!F:F,Standings!N6)+COUNTIFS('Schedule Full'!K:K, Standings!$P$2,'Schedule Full'!G:G,Standings!N6) -> 5 | R6: Diablo D Silver3 (Hom) | S6: =COUNTIFS('Schedule Full'!J:J, Standings!$S$2,'Schedule Full'!F:F,Standings!R6)+COUNTIFS('Schedule Full'!K:K, Standings!$S$2,'Schedule Full'!G:G,Standings!R6) -> 1 | T6: =COUNTIFS('Schedule Full'!J:J, Standings!$T$2,'Schedule Full'!F:F,Standings!R6)+COUNTIFS('Schedule Full'!K:K, Standings!$T$2,'Schedule Full'!G:G,Standings!R6) -> 8
B7: Diablo B 2 (Ouye) | C7: =COUNTIFS('Schedule Full'!J:J, Standings!$C$2,'Schedule Full'!F:F,Standings!B7)+COUNTIFS('Schedule Full'!K:K, Standings!$C$2,'Schedule Full'!G:G,Standings!B7) -> 4 | D7: =COUNTIFS('Schedule Full'!J:J, Standings!$D$2,'Schedule Full'!F:F,Standings!B7)+COUNTIFS('Schedule Full'!K:K, Standings!$D$2,'Schedule Full'!G:G,Standings!B7) -> 5 | F7: Ohtani C Gold2 (Schofield) | G7: =COUNTIFS('Schedule Full'!J:J, Standings!$G$2,'Schedule Full'!F:F,Standings!F7)+COUNTIFS('Schedule Full'!K:K, Standings!$G$2,'Schedule Full'!G:G,Standings!F7) -> 3 | H7: =COUNTIFS('Schedule Full'!J:J, Standings!$H$2,'Schedule Full'!F:F,Standings!F7)+COUNTIFS('Schedule Full'!K:K, Standings!$H$2,'Schedule Full'!G:G,Standings!F7) -> 6 | J7: Ohtani C Silver3 (Chin) | K7: =COUNTIFS('Schedule Full'!J:J, Standings!$K$2,'Schedule Full'!F:F,Standings!J7)+COUNTIFS('Schedule Full'!K:K, Standings!$K$2,'Schedule Full'!G:G,Standings!J7) -> 0 | L7: =COUNTIFS('Schedule Full'!J:J, Standings!$L$2,'Schedule Full'!F:F,Standings!J7)+COUNTIFS('Schedule Full'!K:K, Standings!$L$2,'Schedule Full'!G:G,Standings!J7) -> 9 | N7: Diablo D Gold2 (Lee,G) | O7: =COUNTIFS('Schedule Full'!J:J, Standings!$O$2,'Schedule Full'!F:F,Standings!N7)+COUNTIFS('Schedule Full'!K:K, Standings!$O$2,'Schedule Full'!G:G,Standings!N7) -> 4 | P7: =COUNTIFS('Schedule Full'!J:J, Standings!$P$2,'Schedule Full'!F:F,Standings!N7)+COUNTIFS('Schedule Full'!K:K, Standings!$P$2,'Schedule Full'!G:G,Standings!N7) -> 5 | R7: Eden D Silver2 (Sato) | S7: =COUNTIFS('Schedule Full'!J:J, Standings!$S$2,'Schedule Full'!F:F,Standings!R7)+COUNTIFS('Schedule Full'!K:K, Standings!$S$2,'Schedule Full'!G:G,Standings!R7) -> 1 | T7: =COUNTIFS('Schedule Full'!J:J, Standings!$T$2,'Schedule Full'!F:F,Standings!R7)+COUNTIFS('Schedule Full'!K:K, Standings!$T$2,'Schedule Full'!G:G,Standings!R7) -> 8
B8: SACBC B 1 (Iwashimizu) | C8: =COUNTIFS('Schedule Full'!J:J, Standings!$C$2,'Schedule Full'!F:F,Standings!B8)+COUNTIFS('Schedule Full'!K:K, Standings!$C$2,'Schedule Full'!G:G,Standings!B8) -> 0 | D8: =COUNTIFS('Schedule Full'!J:J, Standings!$D$2,'Schedule Full'!F:F,Standings!B8)+COUNTIFS('Schedule Full'!K:K, Standings!$D$2,'Schedule Full'!G:G,Standings!B8) -> 9 | F8: Ohtani C Gold1 (Sakurai) | G8: =COUNTIFS('Schedule Full'!J:J, Standings!$G$2,'Schedule Full'!F:F,Standings!F8)+COUNTIFS('Schedule Full'!K:K, Standings!$G$2,'Schedule Full'!G:G,Standings!F8) -> 2 | H8: =COUNTIFS('Schedule Full'!J:J, Standings!$H$2,'Schedule Full'!F:F,Standings!F8)+COUNTIFS('Schedule Full'!K:K, Standings!$H$2,'Schedule Full'!G:G,Standings!F8) -> 7 | N8: Eden D Gold1 (Lee,T) | O8: =COUNTIFS('Schedule Full'!J:J, Standings!$O$2,'Schedule Full'!F:F,Standings!N8)+COUNTIFS('Schedule Full'!K:K, Standings!$O$2,'Schedule Full'!G:G,Standings!N8) -> 0 | P8: =COUNTIFS('Schedule Full'!J:J, Standings!$P$2,'Schedule Full'!F:F,Standings!N8)+COUNTIFS('Schedule Full'!K:K, Standings!$P$2,'Schedule Full'!G:G,Standings!N8) -> 9
F9: Diablo C Gold1 (Akiyama) | G9: =COUNTIFS('Schedule Full'!J:J, Standings!$G$2,'Schedule Full'!F:F,Standings!F9)+COUNTIFS('Schedule Full'!K:K, Standings!$G$2,'Schedule Full'!G:G,Standings!F9) -> 0 | H9: =COUNTIFS('Schedule Full'!J:J, Standings!$H$2,'Schedule Full'!F:F,Standings!F9)+COUNTIFS('Schedule Full'!K:K, Standings!$H$2,'Schedule Full'!G:G,Standings!F9) -> 10
B11: CYS B 1 (Minagawa) | C11: =COUNTIFS('Schedule Full'!J:J, Standings!$C$2,'Schedule Full'!F:F,Standings!B11)+COUNTIFS('Schedule Full'!K:K, Standings!$C$2,'Schedule Full'!G:G,Standings!B11) -> 3 | D11: =COUNTIFS('Schedule Full'!J:J, Standings!$D$2,'Schedule Full'!F:F,Standings!B11)+COUNTIFS('Schedule Full'!K:K, Standings!$D$2,'Schedule Full'!G:G,Standings!B11) -> 3
B12: TriCity B 1 (Sugimoto) | C12: =COUNTIFS('Schedule Full'!J:J, Standings!$C$2,'Schedule Full'!F:F,Standings!B12)+COUNTIFS('Schedule Full'!K:K, Standings!$C$2,'Schedule Full'!G:G,Standings!B12) -> 5 | D12: =COUNTIFS('Schedule Full'!J:J, Standings!$D$2,'Schedule Full'!F:F,Standings!B12)+COUNTIFS('Schedule Full'!K:K, Standings!$D$2,'Schedule Full'!G:G,Standings!B12) -> 1
D15: =SUM(C3:D8)/2 -> 27 | H15: =SUM(G3:H12)/2 -> 32 | L15: =SUM(K3:L12)/2 -> 22.5 | P15: =SUM(O3:P12)/2 -> 27 | T15: =SUM(S3:T12)/2 -> 23
B18: Total Scores | C18: =SUM(C15:T15) -> 131.5 | F18: Total Played | G18: ='Schedule Full'!M146 -> 132

Sheet Schedule Full
H1: vis | I1: hom | J1: vis | K1: hom
A2: Week | B2: Dates | C2: Gym | D2: Time | E2: Division | F2: Visitor | G2: Home | H2: Score | I2: Score | J2: w/l | K2: w/l
A3: Week01 | B3: 42707 | C3: BANCROFT | D3: 6pm | E3: B | F3: SACBC B 1 (Iwashimizu) | G3: Diablo B 1 (Tong) | H3: 20 | I3: 38 | J3: l | K3: w
D4: 7pm | E4: B | F4: Ohtani B 1 (Fukumae) | G4: Diablo B 2 (Ouye) | H4: 49 | I4: 15 | J4: w | K4: l
C5: TICE1 | D5: 6pm | E5: B | F5: EBFM B 1 (Domingo) | G5: CYS B 1 (Minagawa) | H5: 36 | I5: 34 | K5: l
D6: 7pm | E6: CG | F6: Ohtani C Gold2 (Schofield) | G6: BMU C Gold1 (Nakahara) | H6: 33 | I6: 38 | J6: l | K6: w
D7: 8pm | E7: CG | F7: Eden C Gold1 (Nakamura) | G7: Diablo C Gold1 (Akiyama) | H7: 30 | I7: 6 | J7: w | K7: l
D8: 9pm | E8: CG | F8: EBFM C Gold1 (Cauton) | G8: SACBC C Gold1 (Wong) | H8: 46 | I8: 37 | J8: w | K8: l
C9: TICE2 | D9: 6pm | E9: CS | F9: Ohtani C Silver3 (Chin) | G9: Eden C Silver2 (Fruin) | H9: 11 | I9: 20 | J9: l | K9: w
D10: 7pm | E10: CS | F10: EBFM C Silver2 (Gong) | G10: Diablo C Silver2 (Ito) | H10: 35 | I10: 22 | J10: w | K10: l
D11: 8pm | E11: DG | F11: SACBC D Gold1 (Nomura) | G11: Diablo D Gold2 (Lee,G) | H11: 41 | I11: 25 | J11: w | K11: l
D12: 9pm | E12: DG | F12: Diablo D Gold1 (Okamura) | G12: Ohtani D Gold1 (Shiota) | H12: 29 | I12: 16 | J12: w | K12: l
D13: 7pm | E13: DG | F13: Eden D Gold1 (Lee,T) | G13: BCO D Gold1 (Yamamoto) | H13: 27 | I13: 29 | J13: l | K13: w
D14: 8pm | E14: DS | F14: Ohtani D Silver3 (Tsuji) | G14: Eden D Silver2 (Sato) | H14: 30 | I14: 23 | J14: w | K14: l
D15: 9pm | E15: DS | F15: Diablo D Silver3 (Hom) | G15: Ohtani D Silver2 (Markham) | H15: 22 | I15: 26 | J15: l | K15: w
B16: 42708 | E16: B | F16: TriCity B 1 (Sugimoto) | G16: Eden B 1 (Valerio) | H16: 44 | I16: 26 | J16: w
D17: 4pm | E17: CS | F17: SACBC C Silver2 (Yamaguchi) | G17: Eden C Silver2 (Fruin) | H17: 43 | I17: 25 | J17: w | K17: l | L17: 13 | M17: 2
B18: 42714 | D18: 6pm | E18: DS | F18: Ohtani D Silver2 (Markham) | G18: Ohtani D Silver3 (Tsuji) | H18: 32 | I18: 30 | J18: w | K18: l
D19: 7pm | E19: CS | F19: SACBC C Silver2 (Yamaguchi) | G19: Ohtani C Silver3 (Chin) | H19: 47 | I19: 20 | J19: w | K19: l
D20: 8pm | E20: CG | F20: Ohtani C Gold2 (Schofield) | G20: Ohtani C Gold1 (Sakurai) | H20: 51 | I20: 41 | J20: w | K20: l
C21: TICE1 | D21: 6pm | E21: DS | F21: Diablo D Silver3 (Hom) | G21: BMU D Silver1 (Yamashiro) | H21: 20 | I21: 35 | J21: l | K21: w
D22: 7pm | E22: DG | F22: Diablo D Gold2 (Lee,G) | G22: Diablo D Gold1 (Okamura) | H22: 34 | I22: 33 | J22: w | K22: l
D23: 8pm | E23: B | F23: EBFM B 1 (Domingo) | G23: Diablo B 2 (Ouye) | H23: 49 | I23: 29 | J23: w | K23: l
C24: TICE2 | D24: 6pm | E24: CS | F24: Diablo C Silver2 (Ito) | G24: EBFM C Silver2 (Gong) | H24: 27 | I24: 38 | J24: l | K24: w
D25: 7pm | E25: CG | F25: SACBC C Gold1 (Wong) | G25: Diablo C Gold1 (Akiyama) | H25: 35 | I25: 23 | J25: w | K25: l
D26: 8pm | E26: B | F26: TriCity B 1 (Sugimoto) | G26: SACBC B 1 (Iwashimizu) | H26: 63 | I26: 19 | J26: w
C27: TICE3 | D27: 6pm | E27: DG | F27: SACBC D Gold1 (Nomura) | G27: BCO D Gold1 (Yamamoto) | H27: 17 | I27: 31 | J27: l | K27: w
D28: 7pm | E28: CG | F28: BMU C Gold1 (Nakahara) | G28: EBFM C Gold1 (Cauton) | H28: 38 | I28: 35 | J28: w | K28: l
D29: 8pm | E29: B | F29: Diablo B 1 (Tong) | G29: CYS B 1 (Minagawa) | H29: 39 | I29: 38 | K29: l
B30: 42715 | D30: 3pm | E30: DS | F30: Eden D Silver2 (Sato) | G30: BMU D Silver1 (Yamashiro) | H30: 12 | I30: 45 | J30: l | K30: w | O30: league
D31: 4pm | E31: DG | F31: Eden D Gold1 (Lee,T) | G31: Ohtani D Gold1 (Shiota) | H31: 17 | I31: 40 | J31: l | K31: w | L31: 12 | M31: 2 | O31: 25
B32: 42721 | C32: TICE1 | D32: 6pm | E32: DS | F32: Eden D Silver2 (Sato) | G32: Diablo D Silver3 (Hom) | H32: 16 | I32: 31 | J32: l | K32: w
D33: 7pm | E33: DG | F33: Diablo D Gold2 (Lee,G) | G33: Eden D Gold1 (Lee,T) | H33: 47 | I33: 32 | J33: w | K33: l
D34: 8pm | E34: CG | F34: Diablo C Gold1 (Akiyama) | G34: Ohtani C Gold2 (Schofield) | H34: 17 | I34: 55 | J34: l | K34: w
D35: 9pm | E35: B | F35: SACBC B 1 (Iwashimizu) | G35: Diablo B 2 (Ouye) | H35: 48 | I35: 51 | J35: l | K35: w
C36: TICE2 | D36: 6pm | E36: CS | F36: Eden C Silver2 (Fruin) | G36: Diablo C Silver2 (Ito) | H36: 14 | I36: 41 | J36: l | K36: w
D37: 7pm | E37: CG | F37: Ohtani C Gold1 (Sakurai) | G37: BMU C Gold1 (Nakahara) | H37: 19 | I37: 35 | J37: l | K37: w
D38: 8pm | E38: B | F38: EBFM B 1 (Domingo) | G38: Eden B 1 (Valerio) | H38: 42 | I38: 34 | J38: w | K38: l
D39: 7pm | E39: DG | F39: SACBC D Gold1 (Nomura) | G39: Diablo D Gold1 (Okamura) | H39: 22 | I39: 39 | J39: l | K39: w
D40: 8pm | E40: CG | F40: Eden C Gold1 (Nakamura) | G40: SACBC C Gold1 (Wong) | H40: 37 | I40: 12 | J40: w | K40: l
D41: 9pm | E41: B | F41: Ohtani B 1 (Fukumae) | G41: Diablo B 1 (Tong) | H41: 38 | I41: 39 | J41: l | K41: w
B42: 42722 | C42: MUIR | D42: 1pm | E42: DS | F42: Ohtani D Silver3 (Tsuji) | G42: BMU D Silver1 (Yamashiro) | H42: 39 | I42: 22 | J42: w | K42: l
D43: 2pm | E43: DG | F43: BCO D Gold1 (Yamamoto) | G43: Ohtani D Gold1 (Shiota) | H43: 15 | I43: 29 | J43: l | K43: w
D44: 3pm | E44: CS | F44: EBFM C Silver2 (Gong) | G44: SACBC C Silver2 (Yamaguchi) | H44: 45 | I44: 48 | J44: l | K44: w
D45: 4pm | E45: B | F45: Eden B 1 (Valerio) | G45: Ohtani B 1 (Fukumae) | H45: 44 | I45: 54 | J45: l | K45: w | L45: 14 | O45: 39
A46: Week04 | B46: 42742 | C46: BANCROFT | D46: 6pm | E46: DS | F46: Ohtani D Silver2 (Markham) | G46: Eden D Silver2 (Sato) | H46: 23 | I46: 17 | J46: w | K46: l
D47: 7pm | E47: DG | F47: SACBC D Gold1 (Nomura) | G47: Eden D Gold1 (Lee,T) | H47: 39 | I47: 31 | J47: w | K47: l
C48: TICE1 | D48: 6pm | E48: DS | F48: Ohtani D Silver3 (Tsuji) | G48: Diablo D Silver3 (Hom) | H48: 38 | I48: 18 | J48: w | K48: l
D49: 7pm | E49: CG | F49: Eden C Gold1 (Nakamura) | G49: EBFM C Gold1 (Cauton) | H49: 33 | I49: 37 | J49: l | K49: w
D50: 8pm | E50: B | F50: Eden B 1 (Valerio) | G50: Diablo B 1 (Tong) | H50: 30 | I50: 43 | J50: l | K50: w
D51: 9pm | E51: B | F51: Ohtani B 1 (Fukumae) | G51: EBFM B 1 (Domingo) | H51: 26 | I51: 47 | J51: l | K51: w
C52: TICE2 | D52: 6pm | E52: DG | F52: Diablo D Gold1 (Okamura) | G52: BCO D Gold1 (Yamamoto) | H52: 25 | I52: 23 | J52: w | K52: l
D53: 7pm | E53: CG | F53: Ohtani C Gold2 (Schofield) | G53: SACBC C Gold1 (Wong) | H53: 48 | I53: 31 | J53: w | K53: l
D54: 8pm | E54: B | F54: Diablo B 2 (Ouye) | G54: TriCity B 1 (Sugimoto) | H54: 21 | I54: 40 | K54: w
C55: TICE3 | D55: 6pm | E55: CS | F55: Ohtani C Silver3 (Chin) | G55: Diablo C Silver2 (Ito) | H55: 34 | I55: 35 | J55: l | K55: w
D56: 7pm | E56: CS | F56: Eden C Silver2 (Fruin) | G56: EBFM C Silver2 (Gong) | H56: 17 | I56: 30 | J56: l | K56: w
D57: 8pm | E57: CG | F57: BMU C Gold1 (Nakahara) | G57: Diablo C Gold1 (Akiyama) | H57: 39 | I57: 13 | J57: w | K57: l
D58: 9pm | E58: B | F58: CYS B 1 (Minagawa) | G58: SACBC B 1 (Iwashimizu) | H58: 47 | I58: 24 | J58: w
B59: 42743 | D59: 4pm | E59: DG | F59: Ohtani D Gold1 (Shiota) | G59: Diablo D Gold2 (Lee,G) | H59: 37 | I59: 34 | J59: w | K59: l
D60: 5pm | E60: B | F60: Diablo B 1 (Tong) | G60: Diablo B 2 (Ouye) | H60: 47 | I60: 32 | J60: w | K60: l | L60: 13 | M60: =SUM(L3:L60) -> 52
A61: Week05 | B61: 42749 | C61: BANCROFT | D61: 6pm | E61: DS | F61: BMU D Silver1 (Yamashiro) | G61: Ohtani D Silver2 (Markham) | H61: 23 | I61: 20 | J61: w | K61: l
D62: 7pm | E62: DG | F62: SACBC D Gold1 (Nomura) | G62: Ohtani D Gold1 (Shiota) | H62: 16 | I62: 25 | J62: l | K62: w
D63: 7pm | E63: DG | F63: Eden D Gold1 (Lee,T) | G63: Diablo D Gold1 (Okamura) | H63: 6 | I63: 28 | J63: l | K63: w
D64: 8pm | E64: CG | F64: Ohtani C Gold1 (Sakurai) | G64: SACBC C Gold1 (Wong) | H64: 18 | I64: 29 | J64: l | K64: w
D65: 9pm | E65: B | F65: Diablo B 1 (Tong) | G65: EBFM B 1 (Domingo) | H65: 54 | I65: 46 | J65: w | K65: l
C66: TICE2 | D66: 6pm | E66: DS | F66: Diablo D Silver3 (Hom) | G66: Ohtani D Silver3 (Tsuji) | H66: 18 | I66: 22 | J66: l | K66: w
D67: 7pm | E67: DG | F67: Diablo D Gold2 (Lee,G) | G67: BCO D Gold1 (Yamamoto) | H67: 34 | I67: 44 | J67: l | K67: w
D68: 8pm | E68: B | F68: Eden B 1 (Valerio) | G68: Diablo B 2 (Ouye) | H68: 25 | I68: 39 | J68: l | K68: w
C69: TICE3 | D69: 6pm | E69: CS | F69: Eden C Silver2 (Fruin) | G69: SACBC C Silver2 (Yamaguchi) | H69: 14 | I69: 46 | J69: l | K69: w
D70: 7pm | E70: CG | F70: Ohtani C Gold2 (Schofield) | G70: EBFM C Gold1 (Cauton) | H70: 38 | I70: 57 | J70: l | K70: w
D71: 8pm | E71: CG | F71: BMU C Gold1 (Nakahara) | G71: Eden C Gold1 (Nakamura) | H71: 48 | I71: 40 | J71: w | K71: l
D72: 9pm | E72: B | F72: Ohtani B 1 (Fukumae) | G72: SACBC B 1 (Iwashimizu) | J72: w | K72: l | L72: SACBC Forfeit
B73: 42750 | D73: 3pm | E73: CS | F73: Ohtani C Silver3 (Chin) | G73: EBFM C Silver2 (Gong) | H73: 21 | I73: 41 | J73: l | K73: w
D74: 4pm | E74: CS | F74: SACBC C Silver2 (Yamaguchi) | G74: Diablo C Silver2 (Ito) | H74: 41 | I74: 33 | J74: w | K74: l | L74: 14 | M74: 66
A75: Week06 | B75: 42756 | C75: BANCROFT | D75: 6pm | E75: DS | F75: Ohtani D Silver3 (Tsuji) | G75: Ohtani D Silver2 (Markham) | H75: 29 | I75: 27 | J75: w | K75: l
D76: 7pm | E76: DG | F76: BCO D Gold1 (Yamamoto) | G76: SACBC D Gold1 (Nomura) | H76: 34 | I76: 20 | J76: w | K76: l
C77: TICE1 | D77: 6pm | E77: DS | F77: Diablo D Silver3 (Hom) | G77: Eden D Silver2 (Sato) | H77: 23 | I77: 36 | J77: l | K77: w
D78: 7pm | E78: CS | F78: Diablo C Silver2 (Ito) | G78: Ohtani C Silver3 (Chin) | H78: 39 | I78: 25 | J78: w | K78: l
D79: 8pm | E79: CG | F79: Ohtani C Gold1 (Sakurai) | G79: Eden C Gold1 (Nakamura) | H79: 13 | I79: 33 | J79: l | K79: w
D80: 9pm | E80: B | F80: Diablo B 2 (Ouye) | G80: CYS B 1 (Minagawa) | H80: 36 | I80: 52 | K80: w
C81: TICE2 | D81: 6pm | E81: DG | F81: Ohtani D Gold1 (Shiota) | G81: Eden D Gold1 (Lee,T) | H81: 35 | I81: 18 | J81: w | K81: l
D82: 7pm | E82: CG | F82: EBFM C Gold1 (Cauton) | G82: Diablo C Gold1 (Akiyama) | H82: 29 | I82: 22 | J82: w | K82: l
D83: 8pm | E83: B | F83: SACBC B 1 (Iwashimizu) | G83: Eden B 1 (Valerio) | H83: 24 | I83: 30 | J83: l | K83: w
C84: TICE3 | D84: 6pm | E84: CS | F84: SACBC C Silver2 (Yamaguchi) | G84: EBFM C Silver2 (Gong) | H84: 38 | I84: 23 | J84: w | K84: l
D85: 7pm | E85: CG | F85: SACBC C Gold1 (Wong) | G85: BMU C Gold1 (Nakahara) | H85: 33 | I85: 51 | J85: l | K85: w
D86: 8pm | E86: B | F86: TriCity B 1 (Sugimoto) | G86: EBFM B 1 (Domingo) | H86: 49 | I86: 43 | J86: w
D87: 9pm | E87: B | F87: Diablo B 1 (Tong) | G87: Ohtani B 1 (Fukumae) | H87: 54 | I87: 61 | J87: l | K87: w
B88: 42757 | D88: 5pm | E88: DS | F88: BMU D Silver1 (Yamashiro) | G88: Eden D Silver2 (Sato) | H88: 24 | I88: 10 | J88: w | K88: l | L88: 12 | M88: 78
A89: Week07 | B89: 42763 | C89: BANCROFT | D89: 6pm | E89: DS | F89: Eden D Silver2 (Sato) | G89: Ohtani D Silver3 (Tsuji) | H89: 35 | I89: 49 | J89: l | K89: w
D90: 7pm | E90: DG | F90: Eden D Gold1 (Lee,T) | G90: SACBC D Gold1 (Nomura) | H90: 19 | I90: 29 | J90: l | K90: w
C91: TICE1 | D91: 6pm | E91: DS | F91: BMU D Silver1 (Yamashiro) | G91: Diablo D Silver3 (Hom) | H91: 26 | I91: 18 | J91: w | K91: l
D92: 7pm | E92: DG | F92: Diablo D Gold1 (Okamura) | G92: Diablo D Gold2 (Lee,G) | H92: 29 | I92: 27 | J92: w | K92: l
D93: 8pm | E93: CG | F93: EBFM C Gold1 (Cauton) | G93: BMU C Gold1 (Nakahara) | H93: 44 | I93: 37 | J93: w | K93: l
D94: 9pm | E94: B | F94: Ohtani B 1 (Fukumae) | G94: TriCity B 1 (Sugimoto) | H94: 41 | I94: 51 | K94: w
C95: TICE2 | D95: 6pm | E95: DG | F95: Ohtani D Gold1 (Shiota) | G95: BCO D Gold1 (Yamamoto) | H95: 35 | I95: 23 | J95: w | K95: l
D96: 7pm | E96: CS | F96: Eden C Silver2 (Fruin) | G96: Ohtani C Silver3 (Chin) | H96: 31 | I96: 21 | J96: w
D97: 8pm | E97: B | F97: EBFM B 1 (Domingo) | G97: SACBC B 1 (Iwashimizu) | H97: 51 | I97: 27 | J97: w | K97: l
C98: TICE3 | D98: 6pm | E98: CG | F98: Ohtani C Gold2 (Schofield) | G98: Eden C Gold1 (Nakamura) | H98: 15 | I98: 42 | J98: l | K98: w
D99: 7pm | E99: CG | F99: Diablo C Gold1 (Akiyama) | G99: Ohtani C Gold1 (Sakurai) | H99: 20 | I99: 43 | J99: l | K99: w
D100: 8pm | E100: B | F100: Diablo B 2 (Ouye) | G100: Diablo B 1 (Tong) | J100: w | K100: l | L100: B1 Forfeit
...

Sheet Clubs
A1: Code | B1: (All)
A2: Reserve | B2: (All)
A4: Count of GameID
A5: Club | B5: Team name
A6: BCO | B6: BCO D Gold1 (Yamamoto)
A7: BMU | B7: BMU C Gold1 (Nakahara)
A8: BMU | B8: BMU D Silver1 (Yamashiro)
A9: Diablo | B9: Diablo B 1 (Tong)
B10: Diablo C Gold1 (Akiyama)
B11: Diablo D Gold1 (Okamura)
B12: Diablo B 2 (Ouye)
B13: Diablo D Gold2 (Lee,G)
B14: Diablo D Silver3 (Hom)
B15: Diablo C Silver2 (Ito)
A16: EBFM | B16: EBFM B 1 (Domingo)
B17: EBFM C Gold1 (Cauton)
B18: EBFM C Silver2 (Gong)
A19: Eden | B19: Eden B 1 (Valerio)
B20: Eden C Gold1 (Nakamura)
B21: Eden D Gold1 (Lee,T)
B22: Eden D Silver2 (Sato)
B23: Eden C Silver2 (Fruin)
A24: Ohtani | B24: Ohtani C Gold1 (Sakarai)
B25: Ohtani C Gold2 (Schofield)
B26: Ohtani D Gold1 (Shiota)
B27: Ohtani B 1 (Fukumae)
B28: Ohtani D Silver3 (Tsuji)
B29: Ohtani C Silver3 (Chin)
B30: Ohtani D Silver2 (Markham)
A31: SACBC | B31: SACBC E Gold1 (Mori)
B32: SACBC D Gold1 (Nomura)
B33: SACBC B 1 (Iwashimizu)
B34: SACBC C Gold1 (Wong)
B35: SACBC C Silver2 (Yamaguchi)
A36: TriCity | B36: TriCity B 1 (Sugimoto)
A37: CYS | B37: CYS B 1 (Minagawa)
