Workbook

Sheet Standings
B2: B (7) | C2: w | D2: l | F2: C Gold (5) | G2: w | H2: l | J2: C Silver (5) | K2: w | L2: l | N2: D Gold (4) | O2: w | P2: l | R2: D Silver (5) | S2: w | T2: l
B3: Diablo B 1 (Tong) | C3: =COUNTIFS('Schedule Full'!J:J, Standings!$C$2,'Schedule Full'!F:F,Standings!B3)+COUNTIFS('Schedule Full'!K:K, Standings!$C$2,'Schedule Full'!G:G,Standings!B3) -> 7 | D3: =COUNTIFS('Schedule Full'!J:J, Standings!$D$2,'Schedule Full'!F:F,Standings!B3)+COUNTIFS('Schedule Full'!K:K, Standings!$D$2,'Schedule Full'!G:G,Standings!B3) -> 2 | F3: BMU C Gold1 (Nakahara) | G3: =COUNTIFS('Schedule Full'!J:J, Standings!$G$2,'Schedule Full'!F:F,Standings!F3)+COUNTIFS('Schedule Full'!K:K, Standings!$G$2,'Schedule Full'!G:G,Standings!F3) -> 8 | H3: =COUNTIFS('Schedule Full'!J:J, Standings!$H$2,'Schedule Full'!F:F,Standings!F3)+COUNTIFS('Schedule Full'!K:K, Standings!$H$2,'Schedule Full'!G:G,Standings!F3) -> 1 | J3: SACBC C Silver2 (Yamaguchi) | K3: =COUNTIFS('Schedule Full'!J:J, Standings!$K$2,'Schedule Full'!F:F,Standings!J3)+COUNTIFS('Schedule Full'!K:K, Standings!$K$2,'Schedule Full'!G:G,Standings!J3) -> 9 | L3: =COUNTIFS('Schedule Full'!J:J, Standings!$L$2,'Schedule Full'!F:F,Standings!J3)+COUNTIFS('Schedule Full'!K:K, Standings!$L$2,'Schedule Full'!G:G,Standings!J3) -> 0 | N3: Ohtani D Gold1 (Shiota) | O3: =COUNTIFS('Schedule Full'!J:J, Standings!$O$2,'Schedule Full'!F:F,Standings!N3)+COUNTIFS('Schedule Full'!K:K, Standings!$O$2,'Schedule Full'!G:G,Standings!N3)+0.5 -> 7.5 | P3: =COUNTIFS('Schedule Full'!J:J, Standings!$P$2,'Schedule Full'!F:F,Standings!N3)+COUNTIFS('Schedule Full'!K:K, Standings!$P$2,'Schedule Full'!G:G,Standings!N3)+0.5 -> 1.5 | R3: BMU D Silver1 (Yamashiro) | S3: =COUNTIFS('Schedule Full'!J:J, Standings!$S$2,'Schedule Full'!F:F,Standings!R3)+COUNTIFS('Schedule Full'!K:K, Standings!$S$2,'Schedule Full'!G:G,Standings!R3) -> 9 | T3: =COUNTIFS('Schedule Full'!J:J, Standings!$T$2,'Schedule Full'!F:F,Standings!R3)+COUNTIFS('Schedule Full'!K:K, Standings!$T$2,'Schedule Full'!G:G,Standings!R3) -> 1
B4: Ohtani B 1 (Fukumae) | C4: =COUNTIFS('Schedule Full'!J:J, Standings!$C$2,'Schedule Full'!F:F,Standings!B4)+COUNTIFS('Schedule Full'!K:K, Standings!$C$2,'Schedule Full'!G:G,Standings!B4) -> 7 | D4: =COUNTIFS('Schedule Full'!J:J, Standings!$D$2,'Schedule Full'!F:F,Standings!B4)+COUNTIFS('Schedule Full'!K:K, Standings!$D$2,'Schedule Full'!G:G,Standings!B4) -> 2 | F4: EBFM C Gold1 (Cauton) | G4: =COUNTIFS('Schedule Full'!J:J, Standings!$G$2,'Schedule Full'!F:F,Standings!F4)+COUNTIFS('Schedule Full'!K:K, Standings!$G$2,'Schedule Full'!G:G,Standings!F4) -> 8 | H4: =COUNTIFS('Schedule Full'!J:J, Standings!$H$2,'Schedule Full'!F:F,Standings!F4)+COUNTIFS('Schedule Full'!K:K, Standings!$H$2,'Schedule Full'!G:G,Standings!F4) -> 1 | J4: EBFM C Silver2 (Gong) | K4: =COUNTIFS('Schedule Full'!J:J, Standings!$K$2,'Schedule Full'!F:F,Standings!J4)+COUNTIFS('Schedule Full'!K:K, Standings!$K$2,'Schedule Full'!G:G,Standings!J4) -> 7 | L4: =COUNTIFS('Schedule Full'!J:J, Standings!$L$2,'Schedule Full'!F:F,Standings!J4)+COUNTIFS('Schedule Full'!K:K, Standings!$L$2,'Schedule Full'!G:G,Standings!J4) -> 2 | N4: Diablo D Gold1 (Okamura) | O4: =COUNTIFS('Schedule Full'!J:J, Standings!$O$2,'Schedule Full'!F:F,Standings!N4)+COUNTIFS('Schedule Full'!K:K, Standings!$O$2,'Schedule Full'!G:G,Standings!N4)+0.5 -> 7.5 | P4: =COUNTIFS('Schedule Full'!J:J, Standings!$P$2,'Schedule Full'!F:F,Standings!N4)+COUNTIFS('Schedule Full'!K:K, Standings!$P$2,'Schedule Full'!G:G,Standings!N4)+0.5 -> 1.5 | R4: Ohtani D Silver3 (Tsuji) | S4: =COUNTIFS('Schedule Full'!J:J, Standings!$S$2,'Schedule Full'!F:F,Standings!R4)+COUNTIFS('Schedule Full'!K:K, Standings!$S$2,'Schedule Full'!G:G,Standings!R4) -> 7 | T4: =COUNTIFS('Schedule Full'!J:J, Standings!$T$2,'Schedule Full'!F:F,Standings!R4)+COUNTIFS('Schedule Full'!K:K, Standings!$T$2,'Schedule Full'!G:G,Standings!R4) -> 2
B5: EBFM B 1 (Domingo) | C5: =COUNTIFS('Schedule Full'!J:J, Standings!$C$2,'Schedule Full'!F:F,Standings!B5)+COUNTIFS('Schedule Full'!K:K, Standings!$C$2,'Schedule Full'!G:G,Standings!B5) -> 5 | D5: =COUNTIFS('Schedule Full'!J:J, Standings!$D$2,'Schedule Full'!F:F,Standings!B5)+COUNTIFS('Schedule Full'!K:K, Standings!$D$2,'Schedule Full'!G:G,Standings!B5) -> 4 | F5: Eden C Gold1 (Nakamura) | G5: =COUNTIFS('Schedule Full'!J:J, Standings!$G$2,'Schedule Full'!F:F,Standings!F5)+COUNTIFS('Schedule Full'!K:K, Standings!$G$2,'Schedule Full'!G:G,Standings!F5) -> 7 | H5: =COUNTIFS('Schedule Full'!J:J, Standings!$H$2,'Schedule Full'!F:F,Standings!F5)+COUNTIFS('Schedule Full'!K:K, Standings!$H$2,'Schedule Full'!G:G,Standings!F5) -> 2 | J5: Diablo C Silver2 (Ito) | K5: =COUNTIFS('Schedule Full'!J:J, Standings!$K$2,'Schedule Full'!F:F,Standings!J5)+COUNTIFS('Schedule Full'!K:K, Standings!$K$2,'Schedule Full'!G:G,Standings!J5) -> 5 | L5: =COUNTIFS('Schedule Full'!J:J, Standings!$L$2,'Schedule Full'!F:F,Standings!J5)+COUNTIFS('Schedule Full'!K:K, Standings!$L$2,'Schedule Full'!G:G,Standings!J5) -> 4 | N5: BCO D Gold1 (Yamamoto) | O5: =COUNTIFS('Schedule Full'!J:J, Standings!$O$2,'Schedule Full'!F:F,Standings!N5)+COUNTIFS('Schedule Full'!K:K, Standings!$O$2,'Schedule Full'!G:G,Standings!N5) -> 4 | P5: =COUNTIFS('Schedule Full'!J:J, Standings!$P$2,'Schedule Full'!F:F,Standings!N5)+COUNTIFS('Schedule Full'!K:K, Standings!$P$2,'Schedule Full'!G:G,Standings!N5) -> 5 | R5: Ohtani D Silver2 (Markham) | S5: =COUNTIFS('Schedule Full'!J:J, Standings!$S$2,'Schedule Full'!F:F,Standings!R5)+COUNTIFS('Schedule Full'!K:K, Standings!$S$2,'Schedule Full'!G:G,Standings!R5) -> 5 | T5: =COUNTIFS('Schedule Full'!J:J, Standings!$T$2,'Schedule Full'!F:F,Standings!R5)+COUNTIFS('Schedule Full'!K:K, Standings!$T$2,'Schedule Full'!G:G,Standings!R5) -> 4
B6: Eden B 1 (Valerio) | C6: =COUNTIFS('Schedule Full'!J:J, Standings!$C$2,'Schedule Full'!F:F,Standings!B6)+COUNTIFS('Schedule Full'!K:K, Standings!$C$2,'Schedule Full'!G:G,Standings!B6) -> 4 | D6: =COUNTIFS('Schedule Full'!J:J, Standings!$D$2,'Schedule Full'!F:F,Standings!B6)+COUNTIFS('Schedule Full'!K:K, Standings!$D$2,'Schedule Full'!G:G,Standings!B6) -> 5 | F6: SACBC C Gold1 (Wong) | G6: =COUNTIFS('Schedule Full'!J:J, Standings!$G$2,'Schedule Full'!F:F,Standings!F6)+COUNTIFS('Schedule Full'!K:K, Standings!$G$2,'Schedule Full'!G:G,Standings!F6) -> 4 | H6: =COUNTIFS('Schedule Full'!J:J, Standings!$H$2,'Schedule Full'!F:F,Standings!F6)+COUNTIFS('Schedule Full'!K:K, Standings!$H$2,'Schedule Full'!G:G,Standings!F6) -> 5 | J6: Eden C Silver2 (Fruin) | K6: =COUNTIFS('Schedule Full'!J:J, Standings!$K$2,'Schedule Full'!F:F,Standings!J6)+COUNTIFS('Schedule Full'!K:K, Standings!$K$2,'Schedule Full'!G:G,Standings!J6) -> 2 | L6: =COUNTIFS('Schedule Full'!J:J, Standings!$L$2,'Schedule Full'!F:F,Standings!J6)+COUNTIFS('Schedule Full'!K:K, Standings!$L$2,'Schedule Full'!G:G,Standings!J6) -> 7 | N6: SACBC D Gold1 (Nomura) | O6: =COUNTIFS('Schedule Full'!J:J, Standings!$O$2,'Schedule Full'!F:F,Standings!N6)+COUNTIFS('Schedule Full'!K:K, Standings!$O$2,'Schedule Full'!G:G,Standings!N6) -> 4 | P6: =COUNTIFS('Schedule Full'!J:J, Standings!$P$2,'Schedule Full'!F:F,Standings!N6)+COUNTIFS('Schedule Full'!K:K, Standings!$P$2,'Schedule Full'!G:G,Standings!N6) -> 5 | R6: Diablo D Silver3 (Hom) | S6: =COUNTIFS('Schedule Full'!J:J, Standings!$S$2,'Schedule Full'!F:F,Standings!R6)+COUNTIFS('Schedule Full'!K:K, Standings!$S$2,'Schedule Full'!G:G,Standings!R6) -> 1 | T6: =COUNTIFS('Schedule Full'!J:J, Standings!$T$2,'Schedule Full'!F:F,Standings!R6)+COUNTIFS('Schedule Full'!K:K, Standings!$T$2,'Schedule Full'!G:G,Standings!R6) -> 8
B7: Diablo B 2 (Ouye) | C7: =COUNTIFS('Schedule Full'!J:J, Standings!$C$2,'Schedule Full'!F:F,Standings!B7)+COUNTIFS('Schedule Full'!K:K, Standings!$C$2,'Schedule Full'!G:G,Standings!B7) -> 4 | D7: =COUNTIFS('Schedule Full'!J:J, Standings!$D$2,'Schedule Full'!F:F,Standings!B7)+COUNTIFS('Schedule Full'!K:K, Standings!$D$2,'Schedule Full'!G:G,Standings!B7) -> 5 | F7: Ohtani C Gold2 (Schofield) | G7: =COUNTIFS('Schedule Full'!J:J, Standings!$G$2,'Schedule Full'!F:F,Standings!F7)+COUNTIFS('Schedule Full'!K:K, Standings!$G$2,'Schedule Full'!G:G,Standings!F7) -> 3 | H7: =COUNTIFS('Schedule Full'!J:J, Standings!$H$2,'Schedule Full'!F:F,Standings!F7)+COUNTIFS('Schedule Full'!K:K, Standings!$H$2,'Schedule Full'!G:G,Standings!F7) -> 6 | J7: Ohtani C Silver3 (Chin) | K7: =COUNTIFS('Schedule Full'!J:J, Standings!$K$2,'Schedule Full'!F:F,Standings!J7)+COUNTIFS('Schedule Full'!K:K, Standings!$K$2,'Schedule Full'!G:G,Standings!J7) -> 0 | L7: =COUNTIFS('Schedule Full'!J:J, Standings!$L$2,'Schedule Full'!F:F,Standings!J7)+COUNTIFS('Schedule Full'!K:K, Standings!$L$2,'Schedule Full'!G:G,Standings!J7) -> 9 | N7: Diablo D Gold2 (Lee,G) | O7: =COUNTIFS('Schedule Full'!J:J, Standings!$O$2,'Schedule Full'!F:F,Standings!N7)+COUNTIFS('Schedule Full'!K:K, Standings!$O$2,'Schedule Full'!G:G,Standings!N7) -> 4 | P7: =COUNTIFS('Schedule Full'!J:J, Standings!$P$2,'Schedule Full'!F:F,Standings!N7)+COUNTIFS('Schedule Full'!K:K, Standings!$P$2,'Schedule Full'!G:G,Standings!N7) -> 5 | R7: Eden D Silver2 (Sato) | S7: =COUNTIFS('Schedule Full'!J:J, Standings!$S$2,'Schedule Full'!F:F,Standings!R7)+COUNTIFS('Schedule Full'!K:K, Standings!$S$2,'Schedule Full'!G:G,Standings!R7) -> 1 | T7: =COUNTIFS('Schedule Full'!J:J, Standings!$T$2,'Schedule Full'!F:F,Standings!R7)+COUNTIFS('Schedule Full'!K:K, Standings!$T$2,'Schedule Full'!G:G,Standings!R7) -> 8
B8: SACBC B 1 (Iwashimizu) | C8: =COUNTIFS('Schedule Full'!J:J, Standings!$C$2,'Schedule Full'!F:F,Standings!B8)+COUNTIFS('Schedule Full'!K:K, Standings!$C$2,'Schedule Full'!G:G,Standings!B8) -> 0 | D8: =COUNTIFS('Schedule Full'!J:J, Standings!$D$2,'Schedule Full'!F:F,Standings!B8)+COUNTIFS('Schedule Full'!K:K, Standings!$D$2,'Schedule Full'!G:G,Standings!B8) -> 9 | F8: Ohtani C Gold1 (Sakurai) | G8: =COUNTIFS('Schedule Full'!J:J, Standings!$G$2,'Schedule Full'!F:F,Standings!F8)+COUNTIFS('Schedule Full'!K:K, Standings!$G$2,'Schedule Full'!G:G,Standings!F8) -> 2 | H8: =COUNTIFS('Schedule Full'!J:J, Standings!$H$2,'Schedule Full'!F:F,Standings!F8)+COUNTIFS('Schedule Full'!K:K, Standings!$H$2,'Schedule Full'!G:G,Standings!F8) -> 7 | N8: Eden D Gold1 (Lee,T) | O8: =COUNTIFS('Schedule Full'!J:J, Standings!$O$2,'Schedule Full'!F:F,Standings!N8)+COUNTIFS('Schedule Full'!K:K, Standings!$O$2,'Schedule Full'!G:G,Standings!N8) -> 0 | P8: =COUNTIFS('Schedule Full'!J:J, Standings!$P$2,'Schedule Full'!F:F,Standings!N8)+COUNTIFS('Schedule Full'!K:K, Standings!$P$2,'Schedule Full'!G:G,Standings!N8) -> 9
F9: Diablo C Gold1 (Akiyama) | G9: =COUNTIFS('Schedule Full'!J:J, Standings!$G$2,'Schedule Full'!F:F,Standings!F9)+COUNTIFS('Schedule Full'!K:K, Standings!$G$2,'Schedule Full'!G:G,Standings!F9) -> 0 | H9: =COUNTIFS('Schedule Full'!J:J, Standings!$H$2,'Schedule Full'!F:F,Standings!F9)+COUNTIFS('Schedule Full'!K:K, Standings!$H$2,'Schedule Full'!G:G,Standings!F9) -> 10
B11: CYS B 1 (Minagawa) | C11: =COUNTIFS('Schedule Full'!J:J, Standings!$C$2,'Schedule Full'!F:F,Standings!B11)+COUNTIFS('Schedule Full'!K:K, Standings!$C$2,'Schedule Full'!G:G,Standings!B11) -> 3 | D11: =COUNTIFS('Schedule Full'!J:J, Standings!$D$2,'Schedule Full'!F:F,Standings!B11)+COUNTIFS('Schedule Full'!K:K, Standings!$D$2,'Schedule Full'!G:G,Standings!B11) -> 3
B12: TriCity B 1 (Sugimoto) | C12: =COUNTIFS('Schedule Full'!J:J, Standings!$C$2,'Schedule Full'!F:F,Standings!B12)+COUNTIFS('Schedule Full'!K:K, Standings!$C$2,'Schedule Full'!G:G,Standings!B12) -> 5 | D12: =COUNTIFS('Schedule Full'!J:J, Standings!$D$2,'Schedule Full'!F:F,Standings!B12)+COUNTIFS('Schedule Full'!K:K, Standings!$D$2,'Schedule Full'!G:G,Standings!B12) -> 1
D15: =SUM(C3:D8)/2 -> 27 | H15: =SUM(G3:H12)/2 -> 32 | L15: =SUM(K3:L12)/2 -> 22.5 | P15: =SUM(O3:P12)/2 -> 27 | T15: =SUM(S3:T12)/2 -> 23
B18: Total Scores | C18: =SUM(C15:T15) -> 131.5 | F18: Total Played | G18: ='Schedule Full'!M146 -> 132

Sheet Schedule Full
H1: vis | I1: hom | J1: vis | K1: hom
A2: Week | B2: Dates | C2: Gym | D2: Time | E2: Division | F2: Visitor | G2: Home | H2: Score | I2: Score | J2: w/l | K2: w/l
A3: Week01 | B3: 42707 | C3: BANCROFT | D3: 6pm | E3: B | F3: SACBC B 1 (Iwashimizu) | G3: Diablo B 1 (Tong) | H3: 20 | I3: 38 | J3: l | K3: w
D4: 7pm | E4: B | F4: Ohtani B 1 (Fukumae) | G4: Diablo B 2 (Ouye) | H4: 49 | I4: 15 | J4: w | K4: l
C5: TICE1 | D5: 6pm | E5: B | F5: EBFM B 1 (Domingo) | G5: CYS B 1 (Minagawa) | H5: 36 | I5: 34 | K5: l
D6: 7pm | E6: CG | F6: Ohtani C Gold2 (Schofield) | G6: BMU C Gold1 (Nakahara) | H6: 33 | I6: 38 | J6: l | K6: w
D7: 8pm | E7: CG | F7: Eden C Gold1 (Nakamura) | G7: Diablo C Gold1 (Akiyama) | H7: 30 | I7: 6 | J7: w | K7: l
D8: 9pm | E8: CG | F8: EBFM C Gold1 (Cauton) | G8: SACBC C Gold1 (Wong) | H8: 46 | I8: 37 | J8: w | K8: l
C9: TICE2 | D9: 6pm | E9: CS | F9: Ohtani C Silver3 (Chin) | G9: Eden C Silver2 (Fruin) | H9: 11 | I9: 20 | J9: l | K9: w
D10: 7pm | E10: CS | F10: EBFM C Silver2 (Gong) | G10: Diablo C Silver2 (Ito) | H10: 35 | I10: 22 | J10: w | K10: l
D11: 8pm | E11: DG | F11: SACBC D Gold1 (Nomura) | G11: Diablo D Gold2 (Lee,G) | H11: 41 | I11: 25 | J11: w | K11: l
D12: 9pm | E12: DG | F12: Diablo D Gold1 (Okamura) | G12: Ohtani D Gold1 (Shiota) | H12: 29 | I12: 16 | J12: w | K12: l
D13: 7pm | E13: DG | F13: Eden D Gold1 (Lee,T) | G13: BCO D Gold1 (Yamamoto) | H13: 27 | I13: 29 | J13: l | K13: w
D14: 8pm | E14: DS | F14: Ohtani D Silver3 (Tsuji) | G14: Eden D Silver2 (Sato) | H14: 30 | I14: 23 | J14: w | K14: l
D15: 9pm | E15: DS | F15: Diablo D Silver3 (Hom) | G15: Ohtani D Silver2 (Markham) | H15: 22 | I15: 26 | J15: l | K15: w
B16: 42708 | E16: B | F16: TriCity B 1 (Sugimoto) | G16: Eden B 1 (Valerio) | H16: 44 | I16: 26 | J16: w
D17: 4pm | E17: CS | F17: SACBC C Silver2 (Yamaguchi) | G17: Eden C Silver2 (Fruin) | H17: 43 | I17: 25 | J17: w | K17: l | L17: 13 | M17: 2
B18: 42714 | D18: 6pm | E18: DS | F18: Ohtani D Silver2 (Markham) | G18: Ohtani D Silver3 (Tsuji) | H18: 32 | I18: 30 | J18: w | K18: l
D19: 7pm | E19: CS | F19: SACBC C Silver2 (Yamaguchi) | G19: Ohtani C Silver3 (Chin) | H19: 47 | I19: 20 | J19: w | K19: l
D20: 8pm | E20: CG | F20: Ohtani C Gold2 (Schofield) | G20: Ohtani C Gold1 (Sakurai) | H20: 51 | I20: 41 | J20: w | K20: l
C21: TICE1 | D21: 6pm | E21: DS | F21: Diablo D Silver3 (Hom) | G21: BMU D Silver1 (Yamashiro) | H21: 20 | I21: 35 | J21: l | K21: w
D22: 7pm | E22: DG | F22: Diablo D Gold2 (Lee,G) | G22: Diablo D Gold1 (Okamura) | H22: 34 | I22: 33 | J22: w | K22: l
D23: 8pm | E23: B | F23: EBFM B 1 (Domingo) | G23: Diablo B 2 (Ouye) | H23: 49 | I23: 29 | J23: w | K23: l
C24: TICE2 | D24: 6pm | E24: CS | F24: Diablo C Silver2 (Ito) | G24: EBFM C Silver2 (Gong) | H24: 27 | I24: 38 | J24: l | K24: w
D25: 7pm | E25: CG | F25: SACBC C Gold1 (Wong) | G25: Diablo C Gold1 (Akiyama) | H25: 35 | I25: 23 | J25: w | K25: l
D26: 8pm | E26: B | F26: TriCity B 1 (Sugimoto) | G26: SACBC B 1 (Iwashimizu) | H26: 63 | I26: 19 | J26: w
C27: TICE3 | D27: 6pm | E27: DG | F27: SACBC D Gold1 (Nomura) | G27: BCO D Gold1 (Yamamoto) | H27: 17 | I27: 31 | J27: l | K27: w
D28: 7pm | E28: CG | F28: BMU C Gold1 (Nakahara) | G28: EBFM C Gold1 (Cauton) | H28: 38 | I28: 35 | J28: w | K28: l
D29: 8pm | E29: B | F29: Diablo B 1 (Tong) | G29: CYS B 1 (Minagawa) | H29: 39 | I29: 38 | K29: l
B30: 42715 | D30: 3pm | E30: DS | F30: Eden D Silver2 (Sato) | G30: BMU D Silver1 (Yamashiro) | H30: 12 | I30: 45 | J30: l | K30: w | O30: league
D31: 4pm | E31: DG | F31: Eden D Gold1 (Lee,T) | G31: Ohtani D Gold1 (Shiota) | H31: 17 | I31: 40 | J31: l | K31: w | L31: 12 | M31: 2 | O31: 25
B32: 42721 | C32: TICE1 | D32: 6pm | E32: DS | F32: Eden D Silver2 (Sato) | G32: Diablo D Silver3 (Hom) | H32: 16 | I32: 31 | J32: l | K32: w
D33: 7pm | E33: DG | F33: Diablo D Gold2 (Lee,G) | G33: Eden D Gold1 (Lee,T) | H33: 47 | I33: 32 | J33: w | K33: l
D34: 8pm | E34: CG | F34: Diablo C Gold1 (Akiyama) | G34: Ohtani C Gold2 (Schofield) | H34: 17 | I34: 55 | J34: l | K34: w
D35: 9pm | E35: B | F35: SACBC B 1 (Iwashimizu) | G35: Diablo B 2 (Ouye) | H35: 48 | I35: 51 | J35: l | K35: w
C36: TICE2 | D36: 6pm | E36: CS | F36: Eden C Silver2 (Fruin) | G36: Diablo C Silver2 (Ito) | H36: 14 | I36: 41 | J36: l | K36: w
D37: 7pm | E37: CG | F37: Ohtani C Gold1 (Sakurai) | G37: BMU C Gold1 (Nakahara) | H37: 19 | I37: 35 | J37: l | K37: w
D38: 8pm | E38: B | F38: EBFM B 1 (Domingo) | G38: Eden B 1 (Valerio) | H38: 42 | I38: 34 | J38: w | K38: l
D39: 7pm | E39: DG | F39: SACBC D Gold1 (Nomura) | G39: Diablo D Gold1 (Okamura) | H39: 22 | I39: 39 | J39: l | K39: w
D40: 8pm | E40: CG | F40: Eden C Gold1 (Nakamura) | G40: SACBC C Gold1 (Wong) | H40: 37 | I40: 12 | J40: w | K40: l
...

Sheet Clubs
A1: Code | B1: (All)
A2: Reserve | B2: (All)
A4: Count of GameID
A5: Club | B5: Team name
A6: BCO | B6: BCO D Gold1 (Yamamoto)
A7: BMU | B7: BMU C Gold1 (Nakahara)
A8: BMU | B8: BMU D Silver1 (Yamashiro)
A9: Diablo | B9: Diablo B 1 (Tong)
B10: Diablo C Gold1 (Akiyama)
B11: Diablo D Gold1 (Okamura)
B12: Diablo B 2 (Ouye)
B13: Diablo D Gold2 (Lee,G)
B14: Diablo D Silver3 (Hom)
B15: Diablo C Silver2 (Ito)
A16: EBFM | B16: EBFM B 1 (Domingo)
B17: EBFM C Gold1 (Cauton)
B18: EBFM C Silver2 (Gong)
A19: Eden | B19: Eden B 1 (Valerio)
B20: Eden C Gold1 (Nakamura)
B21: Eden D Gold1 (Lee,T)
B22: Eden D Silver2 (Sato)
B23: Eden C Silver2 (Fruin)
A24: Ohtani | B24: Ohtani C Gold1 (Sakarai)
B25: Ohtani C Gold2 (Schofield)
B26: Ohtani D Gold1 (Shiota)
B27: Ohtani B 1 (Fukumae)
B28: Ohtani D Silver3 (Tsuji)
B29: Ohtani C Silver3 (Chin)
B30: Ohtani D Silver2 (Markham)
A31: SACBC | B31: SACBC E Gold1 (Mori)
B32: SACBC D Gold1 (Nomura)
B33: SACBC B 1 (Iwashimizu)
B34: SACBC C Gold1 (Wong)
B35: SACBC C Silver2 (Yamaguchi)
A36: TriCity | B36: TriCity B 1 (Sugimoto)
A37: CYS | B37: CYS B 1 (Minagawa)
